BEGIN:VCALENDAR
VERSION:2.0
PRODID:-//wp-events-plugin.com//7.2.3.1//EN
BEGIN:VEVENT
UID:31@villamerlaender.de
DTSTART;TZID=Europe/Berlin:20201007T180000
DTEND;TZID=Europe/Berlin:20201007T190000
DTSTAMP:20200921T094905Z
URL:https://villamerlaender.de/events/jewish-chamber-orchestra-hamburg-mus
 ikalische-stolpersteine/
SUMMARY:Jewish Chamber Orchestra Hamburg - Musikalische Stolpersteine
DESCRIPTION:Der Eintritt zur Veranstaltung ist frei\, um Voranmeldung unter
  ns-doku@krefeld.de wird gebeten. Aufgrund der begrenzten Platzzahl ist ei
 ne frühzeitige Anmeldung ratsam!\nAls Begleitprogramm zur Stolpersteinver
 legung am 7. Oktober freuen die NS-Dokumentationsstelle Krefeld und der Vi
 lla Merländer e.V. sich über dieses Konzert\, welches wir in den Räumen
  der Musikschule Krefeld präsentieren dürfen:\nIm Herbst 1934 hat der Vi
 olinist\, Dirigent und Komponist Edvard Moritz das Jüdische Kammerorchest
 er in Hamburg gegründet. Es bestand aus bekannten Musikern jüdi-scher He
 rkunft und arbeitete mit Solisten wie Ilse Urias\, Jakob Sakom und Hertha 
 Kahn zusammen.\nIn den vier Konzerten\, die das durch Spendenfonds finanzi
 erte Kammerorchester inner-halb von vier Monaten gab\, wurde dem Publikum 
 ein vielfältiges Repertoire geboten\, das sich aus Werken verschiedener E
 pochen von Barock bis zum Moderne zusammen-setzte. Händel\, Corelli\, Moz
 art\, Tschaikowski sind nur einige der berühmten Meister\, neben denen au
 ch zeitgenössische Komponisten wie Florent Schmitt oder Berthold Goldschm
 idt den Einzug ins Programm fanden. Durch das Berufsverbot für Juden war 
 Edvard Moritz gezwungen\, in die USA auszuwandern. Das Orchester wurde auf
 gelöst.\nHeute haben sich international tätige Musiker aus Hamburg die W
 iederbelebung des Jüdischen Kammerorchesters als Aufgabe gestellt. Damit 
 möchten sie einen Beitrag zur Aufrechterhaltung der Erinnerung an die Opf
 er des Nationalsozialismus leisten. So wurde unter der engagierten Leitung
  des Cellisten Pjotr Meshvinski das Jewish Chamber Orchestra Hamburg ins L
 eben gerufen. Das Repertoire des neuen Orchesters wird – ge-nauso wie da
 s seines Vorgängers – die Musik aus vielen Jahrhunderten umfassen. Ganz
  besonders liegt es den Musikern am Herzen\, selten aufgeführte Werke von
  jüdi-schen Komponisten zu präsentieren\, u. a. von Gideon Klein\, Hans 
 Krása und Viktor Ullmann\, die in der NS-Zeit verfolgt wurden und in Konz
 entrationslagern ums Leben kamen. Das aus deren Werken zusammengestellte K
 onzertprogramm „Musikalische Stolpersteine“ soll das bekannte Projekt 
 des Künstlers Gunter Demnig „Stolpersteine“ unterstützen.\nProgramm 
 für das Stolpersteine-Konzert in Krefeld am 7. Oktober\, 18.00 Uhr:\nDie 
 Solisten des Jewish Chamber Orchestra Hamburg präsentieren Schätze der K
 am-mermusik der Klassik und des 20. Jahrhunderts.\nFranz Schubert. Streich
 trio B-Dur D471\nAllegro\nErwin Schulhoff. Duo für Violine und Violoncell
 o (1925)\nModerato\nZingaresca\, Allegro giocoso\nAndantino\nModerato\nMie
 czyslaw Weinberg. Streichtrio Op.48\nAllegro con moto\nAndante\nModerato a
 ssai\nNatalia Alenitsyna - Violine/Viola\nEmanuel Meshvinski -Violine/Viol
 a\nPjotr Meshvinski –Violoncello\n\nWeniger anzeigen\n
LOCATION:Musikschule Krefeld\, Sollbrüggenpark\, Krefeld\, 47800\, Deutsch
 land
X-APPLE-STRUCTURED-LOCATION;VALUE=URI;X-ADDRESS=Sollbrüggenpark\, Krefeld\
 , 47800\, Deutschland;X-APPLE-RADIUS=100;X-TITLE=Musikschule Krefeld:geo:0
 ,0
END:VEVENT
BEGIN:VTIMEZONE
TZID:Europe/Berlin
X-LIC-LOCATION:Europe/Berlin
BEGIN:DAYLIGHT
DTSTART:20200329T030000
TZOFFSETFROM:+0100
TZOFFSETTO:+0200
TZNAME:CEST
END:DAYLIGHT
END:VTIMEZONE
END:VCALENDAR