BEGIN:VCALENDAR
VERSION:2.0
PRODID:-//wp-events-plugin.com//7.2.3.1//EN
BEGIN:VEVENT
UID:316@villamerlaender.de
DTSTART;TZID=Europe/Berlin:20250824T140000
DTEND;TZID=Europe/Berlin:20250824T153000
DTSTAMP:20250610T140146Z
URL:https://villamerlaender.de/events/karin-mast-gerd-rieger-mit-kurt-tuch
 olsky-jazz-im-historischen-klaerwerk/
SUMMARY:Karin Mast & Gerd Rieger mit: Kurt Tucholsky + Jazz im Historischen
  Klärwerk
DESCRIPTION:Karin Mast &amp\; Gerd Rieger mit: Kurt Tucholsky + Jazz\nKarin
  Mast liest Tucholsky Gedichte\, dazwischen gibt es jazzige Improvisatione
 n am Saxofon von und mit Gerd Rieger 24.08.2025 / 14:00 – 15:30\n\nK
 arin Mast singt seit 1960 Jazz. Was Demokratie bedeutet\, macht die Krefe
 lderin über 30 Jahre lang vor.Gerd Rieger ist Improvisator\, Diplom Päd
 agoge\, Musiktherapeut\, Lehrer für Musik in der Heilerziehungspflege\, D
 ozent für freie Improvisation\, Community Music Therapist\, Autor\, Instr
 umentallehrer für Klavier und Saxophon\, und er ist Musiker.\n\nKurt Tuch
 olsky (1890 – 1935) war ein deutscher Schriftsteller\, der zu den bedeu
 tendsten Publizisten der Weimarer Republik zählte. Er warnte vor der Erst
 arkung der politischen Rechten und vor der Bedrohung durch den Nationalsoz
 ialismus.Seine Gedichte sind angesichts heutiger politischer Entwicklungen
  aktueller denn je.\n\nDen geschichtlichen Kontext und die Bedeutung Kurt 
 Tucholskys stellt der Förderverein Villa Merländer vor dem Konzert in ei
 nem Kurzvortrag vor.\nEine Kooperation der Fördervereine Villa Merländer
  e.V. und Förderverein hist. Klärwerk e.V.\nKostenloses Hutkonzert\n\n
CATEGORIES:Lesung
LOCATION:Historisches Klärwerk\, Rundweg 20\,  Krefeld\, NRW\, 47829\, Deu
 tschland
X-APPLE-STRUCTURED-LOCATION;VALUE=URI;X-ADDRESS=Rundweg 20\,  Krefeld\, NRW
 \, 47829\, Deutschland;X-APPLE-RADIUS=100;X-TITLE=Historisches Klärwerk:g
 eo:0,0
END:VEVENT
BEGIN:VTIMEZONE
TZID:Europe/Berlin
X-LIC-LOCATION:Europe/Berlin
BEGIN:DAYLIGHT
DTSTART:20250330T030000
TZOFFSETFROM:+0100
TZOFFSETTO:+0200
TZNAME:CEST
END:DAYLIGHT
END:VTIMEZONE
END:VCALENDAR