BEGIN:VCALENDAR
VERSION:2.0
PRODID:-//wp-events-plugin.com//7.2.3.1//EN
BEGIN:VEVENT
UID:22@villamerlaender.de
DTSTART;TZID=Europe/Berlin:20200815T213000
DTEND;TZID=Europe/Berlin:20200815T233000
DTSTAMP:20200716T091909Z
URL:https://villamerlaender.de/events/kino-in-der-villa-goes-heeder-die-ki
 nder-von-windermere/
SUMMARY:Kino in der Villa goes Heeder: die Kinder von Windermere
DESCRIPTION:Im Sommer 1945 nahmen die Briten 732 Kinder auf\, die den Holoc
 aust überlebt hatten. Der ZDF-Film „Die Kinder von Windermere“ erzäh
 lt ihre bewegende Geschichte. Der Film wird in deutsch-englischer Original
 fassung gezeigt. Der Spielfilm „Die Kinder von Windermere“\, koproduzi
 ert vom ZDF und der BBC\, erzählt eine wahre\, fast unglaubliche Geschich
 te\, die hundertfach belegt ist. Sie ist ein Beispiel für das humanitäre
  Engagement der britischen Alliierten\, die im Spätsommer 1945 insgesamt 
 732 Kinder und Jugendliche nach Windermere und andere Orte in Großbritann
 ien holten und ihnen Heimat gaben. Ein weiches\, weißes Kopfkissen. Die T
 afel Schokolade als Betthupferl. Ein Zimmer für sich allein\, in beheizte
 n Arbeiterunterkünften\, die zwar Baracken ähneln\, aber den gerade übe
 rmüdet Angekommenen trotzdem fremd sind. Warum gibt es keine Suchscheinwe
 rfer\, keinen elektrischen Zaun\, keine Wachtürme und Krematorien? Man k
 önnte gehen\, wohin man will\, aber wohin? Zum Beispiel erst einmal über
  die Schwelle des Raums\, dann eine Tür hinter sich schließen und dann a
 usruhen. Schritt für Schritt.\n\nUm 21:30 findet eine thematische Einfüh
 rung statt.\n\nEinlass ab 21:00 Uhr. Der Eintritt ist frei\, aus Sicherhei
 tsgründen ist eine Voranmeldung dringend erforderlich! Möglich unter\nns
 -doku@krefeld.de oder 02151 861969. Das Haus freut sich über Spenden. Her
 zlichen Dank an das Team der Fabrik Heeder\, die uns für die Reihe aufnim
 mt!
LOCATION:Kulturzentrum Fabrik Heeder\, Virchowstraße 130\, Krefeld\, NRW\,
  47805\, Niederrhein\, Deutschland
X-APPLE-STRUCTURED-LOCATION;VALUE=URI;X-ADDRESS=Virchowstraße 130\, Krefel
 d\, NRW\, 47805\, Niederrhein\, Deutschland;X-APPLE-RADIUS=100;X-TITLE=Kul
 turzentrum Fabrik Heeder:geo:0,0
END:VEVENT
BEGIN:VTIMEZONE
TZID:Europe/Berlin
X-LIC-LOCATION:Europe/Berlin
BEGIN:DAYLIGHT
DTSTART:20200329T030000
TZOFFSETFROM:+0100
TZOFFSETTO:+0200
TZNAME:CEST
END:DAYLIGHT
END:VTIMEZONE
END:VCALENDAR