BEGIN:VCALENDAR
VERSION:2.0
PRODID:-//wp-events-plugin.com//7.2.3.1//EN
BEGIN:VEVENT
UID:55@villamerlaender.de
DTSTART;TZID=Europe/Berlin:20210710T213000
DTEND;TZID=Europe/Berlin:20210710T230000
DTSTAMP:20210624T134615Z
URL:https://villamerlaender.de/events/kino-in-der-villa-goes-heeder-summer
 -special-masel-tov-cocktail-in-anwesenheit-des-regisseurs-arkadij-khaet/
SUMMARY:Kino in der Villa goes Heeder Summer Special: Masel Tov Cocktail in
  Anwesenheit des Regisseurs Arkadij Khaet\,
DESCRIPTION:Kino in der Villa Summer Special: wir sind noch einmal zu Gast 
 im Hof der Fabrik Heeder und freuen uns den Kurzfilm "Masel Tov Cocktail" 
 präsentieren zu dürfen - in Anwesenheit des Direktors Arkadij Khaet.\nDe
 r Eintritt ist frei\, das Haus freut sich über Spenden. Um verbindliche V
 oranmeldung unter ns-doku@krefeld.de wird gebeten.\nMasel Tov Cocktail\nZu
 taten: 1 Jude\, 12 Deutsche\, 5cl Erinnerungskultur\, 3cl Stereotype\, 2 T
 L Patriotismus\, 1 TL Israel\, 1 Falafel\, 5 Stolpersteine\, einen Spritze
 r Antisemitismus\nZubereitung: Alle Zutaten in einen Film geben\, aufkoche
 n lassen und kräftig schütteln. Im Anschluss mit Klezmer-Musik garnieren
 .\nVerzehr: Vor dem Verzehr anzünden und im Kino genießen. 100% Koscher.
END:VEVENT
BEGIN:VTIMEZONE
TZID:Europe/Berlin
X-LIC-LOCATION:Europe/Berlin
BEGIN:DAYLIGHT
DTSTART:20210328T030000
TZOFFSETFROM:+0100
TZOFFSETTO:+0200
TZNAME:CEST
END:DAYLIGHT
END:VTIMEZONE
END:VCALENDAR