BEGIN:VCALENDAR
VERSION:2.0
PRODID:-//wp-events-plugin.com//7.2.3.1//EN
BEGIN:VEVENT
UID:269@villamerlaender.de
DTSTART;TZID=Europe/Berlin:20241119T193000
DTEND;TZID=Europe/Berlin:20241119T213000
DTSTAMP:20240924T122956Z
URL:https://villamerlaender.de/events/kino-in-der-villagoes-fabrik-heeder-
 der-rhein-fliesst-ins-mittelmeer-in-anwesenheit-des-filmschaffenden/
SUMMARY:Kino in der Villa goes Fabrik Heeder:  Der Rhein fließt ins Mittel
 meer (in Anwesenheit des Filmschaffenden)
DESCRIPTION:Achtung: die Veranstaltung findet statt in der Fabrik Heeder\, 
 Studibühne II\n\nDer Rhein fließt ins Mittelmeer\n\nIsrael 2021 / Regie:
  Offer Avnon / Dokumentarfilm / 95 min / Deutsch\, Hebräisch\, Englisch
 \, Polnisch mit Dt. Untertitel\n\nVon Deutschland über Polen nach Israe
 l: Eine persönliche Suche nach der Gegenwart der Shoah in unserem Bewuss
 tsein und in unserer heutigen Gesellschaft.\n\nNach zehn Jahren in Deutsch
 land\, wo er „die schöne Sprache des ehemaligen Erzfeindes“ erwarb\, 
 kehrt der Filmemacher zurück nach Haifa und lässt seine Zeit zwischen Rh
 ein und Neiße Revue passieren\, schaut aber auch mit verändertem Blick a
 uf seine Heimat. Das Resultat ist eine komplexe Montage von Bildern dieser
  Jahre: Gespräche\, Landschaften und Gegenstände\, gesucht und gefunden 
 in Deutschland\, Polen und Israel.\n„Der Rhein fließt ins Mittelmeer“
  betreibt die Sisyphusarbeit einer Verortung zwischen Philo- und Antisemit
 en\, Bemühten und Gleichgültigen\, Erinnerern und Ausblendern. Kein Bild
 \, kein Satz\, der nicht mannigfaltige Assoziationen auslöste. Der Teufel
  steckt im Detail – dafür öffnet dieser Film die Augen. Durch welche T
 raumata lebt der Holocaust fort\, den der Filmemacher\, Sohn eines polnisc
 hen Überlebenden\, in all den Jahren in Deutschland „nie\, auch nicht f
 ür einen einzigen Tag“ vergessen konnte? Welche Mechanismen der Verdrä
 ngung wirken bei den Angehörigen der Täter\, bei denen der Opfer? Wie is
 t die Wahrnehmung\, das Bewusstsein\, die Erinnerung des Einzelnen gepräg
 t durch seine Zugehörigkeit zu einer Nation\, einer Religion oder politis
 chen Gruppierung? Offer Avnon gibt Antworten in fragmentarischer Form\, un
 d jede wirft weitere Fragen auf. Die Suche nach jenem „Unheimlichen“\,
  auf die er sich mit seinem Film begeben hat\, ist längst nicht abgeschlo
 ssen.\n(Christoph Terhechte)\n\nDer Eintritt ist jeweils frei\, der Förde
 rverein Villa Merländer e.V. freut sich über Spenden zugunsten der Neuko
 nzeption der Dauerausstellung. Um Voranmeldung unter ns-doku@krefeld.de wi
 rd gebeten. Beginn und Ort sind immer – sofern nicht anders angegeben 
 – um 19:30 Uhr in der Villa Merländer\, Friedrich-Ebert-Strasse 42\, 47
 799 Krefeld.\n\nDas Gesamtprogramm findet sich unter \n\nKino in der Villa
  2025 - Villa Merländer (villamerlaender.de)
CATEGORIES:Kino
LOCATION:Kulturzentrum Fabrik Heeder\, Virchowstraße 130\, Krefeld\, NRW\,
  47805\, Niederrhein\, Deutschland
X-APPLE-STRUCTURED-LOCATION;VALUE=URI;X-ADDRESS=Virchowstraße 130\, Krefel
 d\, NRW\, 47805\, Niederrhein\, Deutschland;X-APPLE-RADIUS=100;X-TITLE=Kul
 turzentrum Fabrik Heeder:geo:0,0
END:VEVENT
BEGIN:VTIMEZONE
TZID:Europe/Berlin
X-LIC-LOCATION:Europe/Berlin
BEGIN:STANDARD
DTSTART:20241027T020000
TZOFFSETFROM:+0200
TZOFFSETTO:+0100
TZNAME:CET
END:STANDARD
END:VTIMEZONE
END:VCALENDAR