BEGIN:VCALENDAR
VERSION:2.0
PRODID:-//wp-events-plugin.com//7.2.3.1//EN
BEGIN:VEVENT
UID:255@villamerlaender.de
DTSTART;TZID=Europe/Berlin:20240911T193000
DTEND;TZID=Europe/Berlin:20240911T213000
DTSTAMP:20240808T131311Z
URL:https://villamerlaender.de/events/lautlos-absence5-deconstruction-of-m
 emory-mehrteiliges-interkulturelles-projekt-6-solo-tanztheater-miniaturen-
 in-der-gegenueberstellung-in-einer-begehbaren-tanzinstallation/
SUMMARY:lautLOS  absence#5 – deconstruction of memory.  Solo Tanztheater 
 Miniaturen in der Gegenüberstellung in einer begehbaren Tanzinstallation
DESCRIPTION:Die Teilnahme ist frei\, um Voranmeldung unter ns-doku@krefeld.
 de wird dringend gebeten. Der Förderverein Villa Merländer e.V. freut si
 ch über Spenden zugunsten der neuen Dauerausstellung.\n\nNS Dokumentation
 szentrum Krefeld / Villa Merländer\n\n11.09.2024 // 19.30 Uhr // Auszüge
  aus der Produktion\n\n \n\nlautLOS \n\nabsence#5 – deconstruction of m
 emory\n\nIPtanz / Köln in Kooperation mit Maya Dance Company Singapur und
  Company Ildikó Mándy Budapest\n\nMehrteiliges interkulturelles Projekt\
 , 6 Künstlerinnen aus 3 Ländern in der Gegenüberstellung in einer begeh
 baren Tanzinstallation\n\n&nbsp\;\n\nIn der Präsentation in der Villa Mer
 länder / Krefeld werden 3 der 6 Choreographinnen Auszüge aus ihrer Arbei
 t zeigen und mit den Inszenierungen den Ort bespielen. Die Künstler*innen
  stehen im Anschluss an die Vorstellung für persönliche Gespräche zur V
 erfügung.\n\n&nbsp\;\n\n"Nicht zu wissen\, was vor der eigenen Geburt ges
 chehen ist\, heißt\, immer ein Kind zu bleiben."- Cicero  \n\nAm Anfang 
 steht Schweigen. Gewesenes verliert an Deutlichkeit\, wird umgedeutet und 
 zur neuen Realität. Verschwinden von Erinnerung ist verbunden mit Fragen 
 nach Identität und Herkunft. Welche Bedeutung hat Erbe und Erinnerung\, d
 ie wir von vorangegangenen Generationen in uns tragen\, geschichtlich\, me
 nschlich\, genetisch\, psychisch\, physisch\, kulturell?\n\nIm Fokus des P
 rojektes erarbeiten die Künstler*innen Kavitha Krishnan (Singapur)\, Ildi
 kó Mándy (HU) und Ilona Pászthy (D) jeweils eine Solo Tanztheater Minia
 tur zu diesem Themenkomplex\, jede mit einem Schwerpunkt inspiriert durch 
 ihre persönliche Familiengeschichte. Jede Künstlerin hat eine eigene Fra
 gestellung. Und jede Künstlerin lädt eine junge Tanzkünstlerin aus ihre
 m kulturellen Kontext ein\, ein weiteres Solo zum selben Themenschwerpunkt
  aus ihrer Sicht zu erarbeiten.  Ausgangspunkt für die Auseinandersetzun
 g mit Erinnerung und deren Bedeutung für das “Jetzt” und die Zukunft 
 sind bei allen Künstlerinnen Aspekte des Verlusts von wichtigen Personen 
 und Anknüpfungspunkten\, die den Zugang zu Erinnerung jeweils an untersch
 iedlichen Stationen ihres Lebens in eine andere Wichtigkeit rücken und da
 mit neue Fragen aufwerfen. Kulturelle Prägung und die Suche nach Ausdruck
  für die darin enthaltenen "schweigenden Aspekte” verschränken sich mi
 t gesellschaftspolitischen Themen und persönlichen Einblicken. In der Sze
 nographie des bildenden Künstlers miegL und der Animationskünstlerin Ann
 a Mahendra werden Aspekte von äußeren Einflüssen auf das aktuelle Gesch
 ehen aufgegriffen und spürbar gemacht.\n\nIm Rahmen der Premiere in Köln
  werden zusätzlich Audiodeskriptionen mit Touchtour und physisch-sinnlich
 e Einführungsformate dem Publikum auf weiteren Ebenen Zugänge zu den kü
 nstlerischen Arbeitsweisen und Hintergründen bieten.\n\n&nbsp\;\n\nInfos 
 unter www.ip-tanz.com\n\n&nbsp\;\n\nKünstlerische Leitung: Ilona Pászthy
  in Zusammenarbeit mit dem Team\n\nChoreographie/Tanz: Singapur: Kavitha K
 rishnan // Gigi Gianti\, Ungarn: Ildikó Mándy // Jusztina Bakonyi\, Deut
 schland: Ilona Pászthy // Silvia Ehnis\n\nSzenographie: miegL\n\nAnimatio
 n: Anna Mahendra\n\nMusikalische Komposition und Bearbeitung: Zsolt Varga\
 n\nLichtgestaltung: Wolfgang Pütz\, Christoph Wedi\n\nVideotechnik: Chris
 toph Wedi\n\nKostümbild: (D)Margit Koch\n\nMusikalische Gesamtbearbeitung
 : Zsolt Varga\n\nMusikalische Komposition: (D): Zsolt Varga // Singapur: V
 erena Tay\n\nDramaturgische Beratung / outside eye: Deutschland: Britta Li
 eberknecht\, Diana Treder // Singapur: Jeremiah Choy\n\nPhysisch-sinnliche
 s Einführungsformat: Diana Treder\n\nPressearbeit: Mechtild Tellmann\n\nM
 anagement: Asta Nechajute\n\n&nbsp\;\n\nWir danken unseren Förderern: Min
 isterium für Kunst und Wissenschaft NRW\, Kulturamt der Stadt Köln\, Kul
 turbüro Siegburg\, Kulturbüro Krefeld\n\nIn Kooperation mit NS Dokumenta
 tionszentrum Köln\, NS Dokumentationszentrum Krefeld/Villa Merländer
CATEGORIES:Allgemeine Veranstaltungen
LOCATION:Villa Merländer\, Friedrich-Ebert-Straße 42\, Krefeld\, NRW\, 47
 799\, Deutschland
X-APPLE-STRUCTURED-LOCATION;VALUE=URI;X-ADDRESS=Friedrich-Ebert-Straße 42\
 , Krefeld\, NRW\, 47799\, Deutschland;X-APPLE-RADIUS=100;X-TITLE=Villa Mer
 länder:geo:0,0
END:VEVENT
BEGIN:VTIMEZONE
TZID:Europe/Berlin
X-LIC-LOCATION:Europe/Berlin
BEGIN:DAYLIGHT
DTSTART:20240331T030000
TZOFFSETFROM:+0100
TZOFFSETTO:+0200
TZNAME:CEST
END:DAYLIGHT
END:VTIMEZONE
END:VCALENDAR