BEGIN:VCALENDAR
VERSION:2.0
PRODID:-//wp-events-plugin.com//7.2.3.1//EN
BEGIN:VEVENT
UID:18@villamerlaender.de
DTSTART;TZID=Europe/Berlin:20191205T193000
DTEND;TZID=Europe/Berlin:20191205T220000
DTSTAMP:20191124T211618Z
URL:https://villamerlaender.de/events/lesung-tim-proese-jahrundertzeugen/
SUMMARY:Lesung Tim Pröse - Jahrundertzeugen
DESCRIPTION:Der Autor Tim Pröse traf sich für dieses Buch mit dem Judenre
 tter Berthold Beitz\, den letzten beiden Hitler-Attentätern\, der Witwe d
 es legendären Oskar Schindler und mit dem letzten Überlebenden seiner be
 rühmten Liste. Er begegnete auch den letzten Verwandten von Graf Stauffen
 berg\, Anne Frank und den Geschwistern Scholl. Denn ob Widerstandskämpfer
  oder Holocaust-Überlebende – die Lebenswege dieser besonderen Menschen
  beeindrucken gerade in unserer so unruhigen heutigen Zeit.\nDenn sich geg
 en Hitler zu stellen\, seine Schreckensherrschaft zu überleben und trotzd
 em nicht mit dem Schicksal zu hadern\, sondern immer wieder aufzustehen\, 
 dem Leben positiv und mit einem großen Ja zu begegnen\, macht Mut für de
 n Umgang mit Terror und Krieg\, Flucht und Vertreibung – Themen\, die he
 ute wieder von bedrückender Aktualität sind.\nTim Pröse hat einige dies
 er letzten Zeugen über viele Jahre begleitet und erzählt in 18 eindrucks
 vollen Porträts von ihrem Leben und ihrer Botschaft: ein Plädoyer der Un
 angepassten für mehr Toleranz und gegen das Vergessen!\n\nPresse /Stimmen
 \n"Dieses Buch betet nicht die Asche an\, sondern reicht die Flamme weiter
 !" (Udo Lindenberg)\n"Ein ergreifendes\, spannendes und wichtiges Buch wid
 er das Vergessen!" (Mario Adorf)\n"Tim Pröses berührendes und wichtiges 
 Buch erinnert uns daran\, dass die Welt nie aufhören darf\, über den Hol
 ocaust nachzudenken." (Konstantin Wecker)\n"Tim Pröse hat den mutigen Men
 schen dieser so weit vergangenen Zeit einen wichtigen Gedenkstein gesetzt.
 “ (Klaus von Dohnanyi)\n"Ein Buch\, das noch lange nachhallt." (Wolfgang
  Bauer\, DIE ZEIT)\n"Auch Pröse selbst zeigt Haltung. Die Jahrhundertzeug
 en sind seine Form der Respektsbezeugung und fast schon eine Liebeserklär
 ung an diese ganz besonderen Menschen[...]." (Christian Böhm\, Welt am So
 nntag)\n"Was dieses Buch zu einem besonderen macht\, ist der persönliche 
 Blick des Reporters [...]\, jene leuchtenden Momente\, in denen die Ereign
 isse von einst ins Jetzt strahlen." (Britta Heidemann\, WAZ)\n\nTim Pröse
 \, geboren 1970 in Essen\, lebt als Autor und Journalist in München. Nach
  dem Studium der Kommunikationswissenschaften\, Politik und Psychologie wa
 r Pröse Chefreporter der Münchner Abendzeitung und schrieb für das „R
 eportagen“-Ressort des Magazins Focus. Eines seiner einfühlsamen Portr
 äts wurde beim Katholischen Medienpreis ausgezeichnet.\n2016 erschien bei
  Heyne sein Longseller „Jahrhundertzeugen. Die Botschaft der letzten Hel
 den gegen Hitler. 18 Begegnungen“ (4. Auflage). 2017 dann die Biografie 
 „Hallervorden. Ein Komiker macht Ernst“ im Verlag Hoffmann und Campe (
 Platz 41 der Spiegel-Bestsellerliste\, Nov.17). 2018 folgte „Samstagaben
 dhelden. Persönliche Begegnungen mit den legendärsten Stars aus Film\, F
 unk und Fernsehen" (Heyne). 2019 dann der Bestseller „Mario Adorf. Zugab
 e!“ (Platz 39 der Spiegel-Bestsellerliste\, April 2019).\n\nDer Eintritt
  zur Veranstaltung ist frei\, das Haus freut sich über Spenden. Um Voranm
 eldung unter ns-doku@krefeld.de wird gebeten.
CATEGORIES:Lesung
LOCATION:Villa Merländer\, Friedrich-Ebert-Straße 42\, Krefeld\, NRW\, 47
 799\, Deutschland
X-APPLE-STRUCTURED-LOCATION;VALUE=URI;X-ADDRESS=Friedrich-Ebert-Straße 42\
 , Krefeld\, NRW\, 47799\, Deutschland;X-APPLE-RADIUS=100;X-TITLE=Villa Mer
 länder:geo:0,0
END:VEVENT
BEGIN:VTIMEZONE
TZID:Europe/Berlin
X-LIC-LOCATION:Europe/Berlin
BEGIN:STANDARD
DTSTART:20191027T020000
TZOFFSETFROM:+0200
TZOFFSETTO:+0100
TZNAME:CET
END:STANDARD
END:VTIMEZONE
END:VCALENDAR