BEGIN:VCALENDAR
VERSION:2.0
PRODID:-//wp-events-plugin.com//7.2.3.1//EN
BEGIN:VEVENT
UID:338@villamerlaender.de
DTSTART;TZID=Europe/Berlin:20260706T190000
DTEND;TZID=Europe/Berlin:20260706T210000
DTSTAMP:20260330T110507Z
URL:https://villamerlaender.de/events/love-letters-from-war-lesung/
SUMMARY:"Love letters from war" - Eine Lesung mit Paula Emmrich und Michael
  Grosse aus Feldpostbriefen
DESCRIPTION:"Love letters from the war" - Lesung mit Paula Emmrich und Mich
 ael Grosse\n\nDie Teilnahme ist kostenfrei\, Voranmeldung unter ns-doku@kr
 efeld.de\n\nDer Förderverein Villa Merländer e.V. freut sich über Spend
 en zugunsten der Bildungsarbeit.\n\nFast tausend Seiten Feldbriefe\, gesch
 rieben zwischen 1943 und 1945 von Karl an seine geliebte Grete in Krefeld 
 sind die Grundlage für das Buch “love letters from the war”. Als sein
  Enkel die Briefe liest\, findet er weit mehr als Krieg: er findet Liebe\,
  Hoffnung und den tiefen Wunsch\, Menschlichkeit zu bewahren.\n\nDas Proje
 kt begleitet Karl über einen Zeitraum von zwei Jahren\, von 1943 bis zum 
 Ende des Krieges. Wir sehen\, wie er\, ein dreißigjähriger Lehrer\, zum 
 Militär eingezogen wird. Er ist verheiratet\, und seine Tochter ist zu di
 esem Zeitpunkt zwei Jahre alt. Wir folgen ihm an die Ostfront\, wo er als 
 Kartograf arbeitet. Wir lesen von seinen Sorgen und seiner Neugier\, von s
 einem inneren Konflikt mit den Regeln des Militärs\, vom Verlust der Frei
 heit und von der Trauer darüber\, seine Familie zurücklassen zu müssen.
  In seinen Worten spiegelt sich der Zweifel am System ebenso wie eine deut
 liche Abneigung gegen den Krieg. In kleinen Anekdoten begegnet uns ein ein
 facher Mensch\, der weiterhin nach Schönheit im Alltäglichen sucht\, der
  sich an Heimat und Liebe festhält. Und wir sehen die Realität des Krieg
 es\, er ist der einzige Überlebende seiner Einheit.\n\nObwohl diese Brief
 e vor über achtzig Jahren entstanden\, wirken sie heute erstaunlich aktue
 ll – in einer Zeit\, die wieder von Unsicherheit\, Konflikten und wachse
 nder Ohnmacht geprägt ist. Sie erinnern uns sanft\, aber eindringlich dar
 an\, dass wir selbst in den dunkelsten Momenten frei bleiben\, zu entschei
 den\, wie wir handeln. Das Buch ist mehr als eine persönliche Krefelder L
 iebesgeschichte\, es ist eine Hommage an die Kraft kleiner Gesten\, eine L
 iebeserklärung an die Menschlichkeit.\n\nDer Autor des Buch es ist Karl
 ’s Enkel\; Hanno Ketterer (1967) lebt als bildender Künstler in Amsterd
 am. Er arbeitete in der Unternehmensberatung bevor er Fotografie studierte
 . Das Buch “love letters from the war” wurde Ende 2025 vom Kehrer Verl
 ag veröffentlicht und auf der Paris Photo erstmals vorgestellt.\n\nPaula 
 Emmrich und Michael Grosse lesen Passagen aus dem Buch\, Hanno Kettterer s
 teht für Fragen zur Verfügung.\n\nPaula Emmrich wurde in Koblenz geboren
 . Nach dem Abitur war sie drei Jahre lang Mitglied des Kinder- und Jugende
 nsembles am Mainzer „forum-theater unterhaus“. Anschließend absolvier
 te sie ihre Schauspielausbildung an der Berufsfachschule „spielstatt“ 
 in Ulm. Nach einem „Ausflug“ in die freie Theaterszene sowie ins spani
 sche Straßentheater trat sie ein Engagement am Theater Ravensburg an und 
 wechselte dann als festes Ensemblemitglied ans Kinder- und Jugendtheater D
 ortmund. Im Theater Krefeld Mönchengladbach ist Sie vor allem in Stücken
  für das junge Publikum zu sehen.\n\nMit Beginn der Spielzeit 2010/11 üb
 ernahm Michael Grosse die Generalintendanz des Theaters Krefeld und Mönch
 engladbach. Zuvor war er 1991-1996 Intendant des Deutsch-Sorbischen Volkst
 heaters Bautzen\, 1996-2000 Generalintendant des Theaters Altenburg-Gera u
 nd 2000-2010 Generalintendant des Schleswig-Holsteinischen Landestheaters.
 \n\n\n\n&nbsp\;
LOCATION:Villa Merländer\, Friedrich-Ebert-Straße 42\, Krefeld\, NRW\, 47
 799\, Deutschland
X-APPLE-STRUCTURED-LOCATION;VALUE=URI;X-ADDRESS=Friedrich-Ebert-Straße 42\
 , Krefeld\, NRW\, 47799\, Deutschland;X-APPLE-RADIUS=100;X-TITLE=Villa Mer
 länder:geo:0,0
END:VEVENT
BEGIN:VTIMEZONE
TZID:Europe/Berlin
X-LIC-LOCATION:Europe/Berlin
BEGIN:DAYLIGHT
DTSTART:20260329T030000
TZOFFSETFROM:+0100
TZOFFSETTO:+0200
TZNAME:CEST
END:DAYLIGHT
END:VTIMEZONE
END:VCALENDAR