BEGIN:VCALENDAR
VERSION:2.0
PRODID:-//wp-events-plugin.com//7.2.3.1//EN
BEGIN:VEVENT
UID:302@villamerlaender.de
DTSTART;TZID=Europe/Berlin:20250416T130000
DTEND;TZID=Europe/Berlin:20250416T133000
DTSTAMP:20250324T105537Z
URL:https://villamerlaender.de/events/mittagspausenfuehrung-3/
SUMMARY:Mittagspausenführung 3
DESCRIPTION:3. Nationalsozialistische Machtübernahme\, Frühjahr 1933:\n\n
 Verfolgung und Widerstand von Kommunisten\n\n&nbsp\;\n\nNächst der jüdis
 chen Opfergruppe gehörten die Mitglieder der Kommunistischen Partei Deuts
 chlands zu den am stärksten von Repression und Verfolgung bedrohten Grupp
 ierungen während der nationalsozialistischen Diktatur. Unmittelbar nach d
 em Reichstagsbrand am 27. Februar 1933\, den die NS-Propaganda zur Tat kom
 munistischer Verschwörer erklärte\, setzte die erste große staatlich ge
 lenkte Verfolgungs- und Verhaftungswelle von Kommunisten in Deutschland ei
 n. Wen traf sie in Krefeld\, wer gab in Krefeld dem kommunistischen Widers
 tand Gesicht und Stimme?\n\n&nbsp\;\n\nTermin: Mittwoch\, 16. April 2025\,
  13.00 Uhr\n\n&nbsp\;\n\n
CATEGORIES:Rundgang
LOCATION:Rathaus Krefeld\, Von-der-Leyen-Platz 1\, Krefeld\, NRW\, 47798\, 
 Deutschland
X-APPLE-STRUCTURED-LOCATION;VALUE=URI;X-ADDRESS=Von-der-Leyen-Platz 1\, Kre
 feld\, NRW\, 47798\, Deutschland;X-APPLE-RADIUS=100;X-TITLE=Rathaus Krefel
 d:geo:0,0
END:VEVENT
BEGIN:VTIMEZONE
TZID:Europe/Berlin
X-LIC-LOCATION:Europe/Berlin
BEGIN:DAYLIGHT
DTSTART:20250330T030000
TZOFFSETFROM:+0100
TZOFFSETTO:+0200
TZNAME:CEST
END:DAYLIGHT
END:VTIMEZONE
END:VCALENDAR