BEGIN:VCALENDAR
VERSION:2.0
PRODID:-//wp-events-plugin.com//7.2.3.1//EN
BEGIN:VEVENT
UID:216@villamerlaender.de
DTSTART;TZID=Europe/Berlin:20240311T180000
DTEND;TZID=Europe/Berlin:20240311T200000
DTSTAMP:20240213T160624Z
URL:https://villamerlaender.de/events/montagsimpulse-dr-stefan-haenischen-
 bildungswerk-stanislaw-hantz-e-v-das-transitghetto-izbica-im-system-des-ho
 locaust/
SUMMARY:Montagsimpulse - Dr. Steffen Hänschen (Bildungswerk Stanislaw Hant
 z e.V.)- Das Transitghetto Izbica im System des Holocaust
DESCRIPTION:Die große Mehrheit der Jüdinnen*Juden\, die Ende 1941 noch au
 f dem Gebiet des Deutschen Reichs lebten\, wurde 1942 „nach Osten“ dep
 ortiert und ermordet. Auch aus dem Protektorat Böhmen und Mähren\, der S
 lowakei und Luxemburg verschleppten die Nationalsozialisten weite Teile de
 r jüdischen Bevölkerung in die Ghettos und Lager im besetzten Polen. Ein
  Hauptziel war der Distrikt Lublin\, wo die Deportierten nicht sofort get
 ötet\, sondern zunächst auf Transitghettos verteilt wurden. Das größte
  war Izbica. Im März 1942 begannen die „Aussiedlungen“ aus Izbica in 
 die Mordlager der „Aktion Reinhard“. Im November 1942 erklärten die D
 eutschen den Ort für „judenrein“. Die letzte kleine Gruppe jüdischer
  Bewohner*innen wurde schließlich im April 1943 nach Sobibór verschleppt
 . Im Zentrum des Vortrags von Steffen Hänschen stehen die Deportationen n
 ach Izbica\, das Geschehen am Ort sowie die Frage nach dem heutigen Umgang
 \nmit der Geschichte.\n\nDr. Steffen Hänschen forscht zu den vergessenen 
 Lagern der „Aktion Reinhard“ und begleitet seit zwei Jahrzehnten Bildu
 ngsreisen im Rahmen des Bildungswerks Stanisław Hantz e.V. Im Jahr 2018 v
 eröffentlichte er das Buch: "Das Transitghetto Izbica im System des Holoc
 aust"
CATEGORIES:Vortrag
LOCATION:Villa Merländer\, Friedrich-Ebert-Straße 42\, Krefeld\, NRW\, 47
 799\, Deutschland
X-APPLE-STRUCTURED-LOCATION;VALUE=URI;X-ADDRESS=Friedrich-Ebert-Straße 42\
 , Krefeld\, NRW\, 47799\, Deutschland;X-APPLE-RADIUS=100;X-TITLE=Villa Mer
 länder:geo:0,0
END:VEVENT
BEGIN:VTIMEZONE
TZID:Europe/Berlin
X-LIC-LOCATION:Europe/Berlin
BEGIN:STANDARD
DTSTART:20231029T020000
TZOFFSETFROM:+0200
TZOFFSETTO:+0100
TZNAME:CET
END:STANDARD
END:VTIMEZONE
END:VCALENDAR