BEGIN:VCALENDAR
VERSION:2.0
PRODID:-//wp-events-plugin.com//7.2.3.1//EN
BEGIN:VEVENT
UID:219@villamerlaender.de
DTSTART;TZID=Europe/Berlin:20240415T180000
DTEND;TZID=Europe/Berlin:20240415T200000
DTSTAMP:20240207T135937Z
URL:https://villamerlaender.de/events/montagsimpulse-fabian-schmitz-archiv
 mitarbeiter-ns-dokumentationsstelle-ueberwachen-und-strafen-unerlaubten-um
 gangs-mit-fremdarbeitern-durch-die-krefelder-geheime-staatspolizei/
SUMMARY:Montagsimpulse - Fabian Schmitz (Archivmitarbeiter NS-Dokumentation
 sstelle): Überwachen und Strafen unerlaubten Umgangs mit »Fremdarbeitern
 « durch die Krefelder Geheime Staatspolizei
DESCRIPTION:Ohne den millionenfachen Einsatz von ausländischer Zwangsarbei
 t hätte das Deutsche Reich den Zweiten Weltkrieg niemals führen können.
  Gleichzeitig wollte insbesondere die Geheime Staatspolizei die NS-Rasseni
 deologie nicht aufgeben. Ein Blick in die Akten der Gestapo zeigt auf\, wi
 e die NS-Behörden versuchten\, den Kontakt zwischen den Krefelder:innen u
 nd den hier lebenden Zwangsarbeiter:innen zu unterbinden.\n\nDer Eintritt 
 ist frei\, um Voranmeldung unter ns-doku@krefeld.de wird gebeten. Der För
 derverein Villa Merländer e.V. freut sich über Spenden zugunsten der Ums
 etzung der Neukonzeption der Dauerausstellung.
CATEGORIES:Vortrag
LOCATION:Villa Merländer\, Friedrich-Ebert-Straße 42\, Krefeld\, NRW\, 47
 799\, Deutschland
X-APPLE-STRUCTURED-LOCATION;VALUE=URI;X-ADDRESS=Friedrich-Ebert-Straße 42\
 , Krefeld\, NRW\, 47799\, Deutschland;X-APPLE-RADIUS=100;X-TITLE=Villa Mer
 länder:geo:0,0
END:VEVENT
BEGIN:VTIMEZONE
TZID:Europe/Berlin
X-LIC-LOCATION:Europe/Berlin
BEGIN:DAYLIGHT
DTSTART:20240331T030000
TZOFFSETFROM:+0100
TZOFFSETTO:+0200
TZNAME:CEST
END:DAYLIGHT
END:VTIMEZONE
END:VCALENDAR