BEGIN:VCALENDAR
VERSION:2.0
PRODID:-//wp-events-plugin.com//7.2.3.1//EN
BEGIN:VEVENT
UID:100@villamerlaender.de
DTSTART;TZID=Europe/Berlin:20220612T110000
DTEND;TZID=Europe/Berlin:20220612T130000
DTSTAMP:20220530T144038Z
URL:https://villamerlaender.de/events/oeffentlicher-rundgang-juedischer-al
 ltag-in-der-ns-zeit/
SUMMARY:Öffentlicher Rundgang: Jüdischer Alltag in der NS-Zeit
DESCRIPTION:Annabel Prey\, Mitarbeiterin der NS-Dokumentationsstelle Krefel
 d\, lädt ein zu einem Rundgang auf den Spuren jüdischen Alltags zwischen
  1933 und 1945: Neben einem Überblick zum damaligen Alltag für Juden und
  Jüdinnen\, werden Themen wie Arisierung\, Festnahmen\, Verurteilungen\, 
 Deportationen etc. angesprochen- Dabei werden die historischen Ereignisse 
 mit der aktuellen Krefelder Innenstadt verbunden. Ein spannender Einblick 
 in das lange Nachwirken der Geschichte.\nFoto: Zeitungsanzeige Schuhhaus G
 rüterich\, Volksparole vom 18.5.1933\n\nTreffpunkt ist der Bahnhofvorplat
 z Richtung Innenstadt.\nUm Voranmeldung unter\nns-doku@krefeld.de wird geb
 eten. Die Teilnahme ist frei\, das haus freut sich über Spenden.
END:VEVENT
BEGIN:VTIMEZONE
TZID:Europe/Berlin
X-LIC-LOCATION:Europe/Berlin
BEGIN:DAYLIGHT
DTSTART:20220327T030000
TZOFFSETFROM:+0100
TZOFFSETTO:+0200
TZNAME:CEST
END:DAYLIGHT
END:VTIMEZONE
END:VCALENDAR