BEGIN:VCALENDAR
VERSION:2.0
PRODID:-//wp-events-plugin.com//7.2.3.1//EN
BEGIN:VEVENT
UID:308@villamerlaender.de
DTSTART;TZID=Europe/Berlin:20250814T190000
DTEND;TZID=Europe/Berlin:20250814T204500
DTSTAMP:20260331T123317Z
URL:https://villamerlaender.de/events/online-presentation-dr-marta-havrish
 ko-the-offender-next-door-local-men-and-sexual-violence-during-the-holocau
 st-in-ukraine/
SUMMARY:Online presentation: Dr. Marta Havryshko\, “The Offender Next Doo
 r: Local Men and Sexual Violence during the Holocaust in Ukraine”
DESCRIPTION:Die Presentation findet online via Zoom statt. Die Vortragsspra
 che ist Englisch. Zusendung des Teilnahmelinks nach Anmeldung unter ns-dok
 u@krefeld.de\n\nMarta Havryshko is a Dr. Thomas Zand Visiting Assistant Pr
 ofessor in Holocaust Pedagogy and Antisemitism Studies at the Strassler Ce
 nter for Holocaust and Genocide Studies at Clark University. She holds a 
 Ph.D. in History from the Ivan Franko National University of Lviv. Havrysh
 ko is a member of the editorial board of the academic journal "Eastern Eur
 ope Holocaust Studies." Her recent publications include a book\, "Overcom
 ing Silence: Women's War Stories (2018)"\, as well as book chapters and ar
 ticles on gender\, WWII\, and the Holocaust. Currently\, she is developing
  a book on sexual violence during the Holocaust in Ukraine.\n\n Die Veran
 staltung wird finanziert durch Fördergelder des Gedenkstättenreferats de
 r Landeszentrale für politische Bildung. \n\n[caption id="attachment_758
 3" align="alignnone" width="237"] 4 February 2020\, Mandel Center Fellows 
 stand for their portrait.[/caption]
CATEGORIES:Vortrag
END:VEVENT
BEGIN:VTIMEZONE
TZID:Europe/Berlin
X-LIC-LOCATION:Europe/Berlin
BEGIN:DAYLIGHT
DTSTART:20250330T030000
TZOFFSETFROM:+0100
TZOFFSETTO:+0200
TZNAME:CEST
END:DAYLIGHT
END:VTIMEZONE
END:VCALENDAR