BEGIN:VCALENDAR
VERSION:2.0
PRODID:-//wp-events-plugin.com//7.2.3.1//EN
BEGIN:VEVENT
UID:192@villamerlaender.de
DTSTART;TZID=Europe/Berlin:20230923T103000
DTEND;TZID=Europe/Berlin:20230923T150000
DTSTAMP:20230815T094940Z
URL:https://villamerlaender.de/events/radtour-dass-was-man-noch-sehen-kann
 -spurensuche-im-ehemaligen-gau-duesseldorf-von-der-schlageter-stadt-ueber-
 den-rhein-in-die-samt-und-seidenstadt/
SUMMARY:Radtour: "Dass was man noch sehen kann" Spurensuche im ehemaligen G
 au Düsseldorf. Von der „Schlageter Stadt“\, über den Rhein\, in die 
 Samt- und Seidenstadt
DESCRIPTION:Die Mahn- und Gedenkstätte Düsseldorf und die NS-Dokumentatio
 nsstelle Krefeld laden ein zu einer gemeinsamen Radtour: 23. 09. I 10:30 I
  Treffpunkt „Fortuna-Büdchen“\, Joseph-Beuys-Ufer 27\, 40479 Düsseld
 orf\n"Dass was man noch sehen kann" Spurensuche im ehemaligen Gau Düsseld
 orf. Von der „Schlageter Stadt“\, über den Rhein\, in die Samt- und S
 eidenstadt\nGeleitet wird die Tour durch Astrid Hirsch-von Borries/ Jona W
 instroth (MuG) und Sandra Franz (NS-Dokumentationsstelle Krefeld)\nEin ver
 kehrstüchtiges Rad ist mitzubringen.\nDie Teilnahme ist frei\, das Haus f
 reut sich über Spenden. um Voranmeldung unter ns-doku@krefeld.de wird geb
 eten.\n\n&nbsp\;
END:VEVENT
BEGIN:VTIMEZONE
TZID:Europe/Berlin
X-LIC-LOCATION:Europe/Berlin
BEGIN:DAYLIGHT
DTSTART:20230326T030000
TZOFFSETFROM:+0100
TZOFFSETTO:+0200
TZNAME:CEST
END:DAYLIGHT
END:VTIMEZONE
END:VCALENDAR