BEGIN:VCALENDAR
VERSION:2.0
PRODID:-//wp-events-plugin.com//7.2.3.1//EN
BEGIN:VEVENT
UID:196@villamerlaender.de
DTSTART;TZID=Europe/Berlin:20231019T190000
DTEND;TZID=Europe/Berlin:20231019T210000
DTSTAMP:20230919T134213Z
URL:https://villamerlaender.de/events/raeume-der-gewalt-ein-gespraech-mit-
 prof-dr-joerg-baberowski/
SUMMARY:Räume der Gewalt. Ein Gespräch mit Prof. Dr. Jörg Baberowski
DESCRIPTION:Programmreihe: "Mehr als ein blaues Auge" - Gewalt aus verschie
 denen geschlechts-spezifischen Blickwinkeln\nDie Programmreihe möchte in 
 drei Veranstaltungen Geschichten erzählen und Einblicke aufzeigen\, die d
 eutlich machen\, dass Gewalt ein facettenreiches Gesicht in jeder zeitlich
 en Epoche hatte und immer noch hat. Gerade die Rolle von geschlechtsbezoge
 ner Gewalt ist vielschichtig und eine oft unterschätzte Realität für di
 e Betroffenen. Das Phänomen Gewalt ist damit immer wieder ein herausforde
 rndes Thema im Umgang und in der Darstellung in Bezug auf den gesellschaft
 lichen sowie familiären Kontext.\nMit den folgenden Veranstaltungen wird 
 das Thema in unterschiedlichen Epochen und Kreisen in den Blick genommen. 
 Erschreckende\, berührende und außergewöhnliche Einblicke werden anscha
 ulich erzählt und beleuchtet.\n\nGemeinsam mit der Volkshochschule Krefel
 d\, der NS Dokumentationsstelle Villa Merländer und der Gleichstellungsst
 elle Krefeld mit dem Krefelder Netzwerk gegen Häusliche Gewalt werden die
  Veranstaltungen angeboten.\n\nBei bzw. nach jeder Veranstaltung besteht d
 ie Möglichkeit\, Fragen zu stellen und in den Austausch zu kommen.\n\nC1.
 20.02\nRäume der Gewalt. Ein Gespräch mit Prof. Dr. Jörg Baberowski\n"G
 ewalt verändert alles\, und wer ihr ausgesetzt ist\, wird ein Anderer sei
 n. Das Erleben der Gewalt ist wie eine Reise in eine neue Welt\, in der an
 dere Regeln gelten und andere Menschen leben" schreibt der Osteuropa-Histo
 riker Jörg Baberowski\, der wohl beste Kenner der stalinistischen Gewalth
 errschaft. Sein Buch "Verbrannte Erde: Stalins Herrschaft der Gewalt" wurd
 e im Jahr 2012 mit dem Preis der Leipziger Buchmesse ausgezeichnet. Wir sp
 rechen mit ihm darüber\, wie Menschen Gewalt ausüben und was Gewalt mit 
 Menschen macht.\nDo\, 19.10.\, 19.00-21.00 Uhr\, VHS-Haus\, Raum 01 Muches
 aal\, entgeltfrei\, Dr. Thomas Freiberger\, Prof. Dr. Jörg Baberowski
END:VEVENT
BEGIN:VTIMEZONE
TZID:Europe/Berlin
X-LIC-LOCATION:Europe/Berlin
BEGIN:DAYLIGHT
DTSTART:20230326T030000
TZOFFSETFROM:+0100
TZOFFSETTO:+0200
TZNAME:CEST
END:DAYLIGHT
END:VTIMEZONE
END:VCALENDAR