BEGIN:VCALENDAR
VERSION:2.0
PRODID:-//wp-events-plugin.com//7.2.3.1//EN
BEGIN:VEVENT
UID:27@villamerlaender.de
DTSTART;TZID=Europe/Berlin:20210608T193000
DTEND;TZID=Europe/Berlin:20210608T221500
DTSTAMP:20210520T074341Z
URL:https://villamerlaender.de/events/volker-kutscher-liest-aus-babylon-be
 rlin/
SUMMARY:Volker Kutscher liest aus Babylon Berlin
DESCRIPTION:„Die TV-Serie ›Babylon Berlin‹ mag gutes Fernsehen sein. 
 Volker Kutschers Romane aber sind großes Kino.“ taz\n\nDer Bestsellerau
 tor kommt nach Krefeld!\n\nBerlin\, Sommer 1936.\nInmitten der Olympiabege
 isterung muss Gereon Rath verdeckt einen Todesfall im olympischen Dorf auf
 klären. Die Machthaber befürchten\, dass Kommunisten die Spiele sabotier
 en. Rath hat seine Zweifel und ermittelt eher lustlos\, zumal er private P
 robleme hat: Er ist Gastgeber amerikanischer Olympiatouristen\, und seine 
 Ehefrau Charly hat die gemeinsame Wohnung unter Protest verlassen. Dann fi
 ndet er im olympischen Dorf einen Mitarbeiter mit kommunistischer Vergange
 nheit\, der auch am Tatort war. Während der Verdächtige brutalen Verhör
 en der SS ausgesetzt ist\, geschieht ein zweiter Mord. Rath ermittelt fieb
 erhaft\, um weitere Todesfälle zu verhindern\, und ahnt nicht\, dass sein
  eigenes Todesurteil längst gefällt ist.\n\nVolker Kutscher folgt der Ei
 nladung der NS-Dokumentationsstelle und spricht über seinem neuesten Band
  der Gereon Rath-Reihe. Voranmeldungen werden ab sofort unter ns-doku@kref
 eld.de entgegen genommen! Der Teilnahmelink wird nach erfolgreicher Anmeld
 ung zugeschickt.
END:VEVENT
BEGIN:VTIMEZONE
TZID:Europe/Berlin
X-LIC-LOCATION:Europe/Berlin
BEGIN:DAYLIGHT
DTSTART:20210328T030000
TZOFFSETFROM:+0100
TZOFFSETTO:+0200
TZNAME:CEST
END:DAYLIGHT
END:VTIMEZONE
END:VCALENDAR