BEGIN:VCALENDAR
VERSION:2.0
PRODID:-//wp-events-plugin.com//7.2.3.1//EN
BEGIN:VEVENT
UID:328@villamerlaender.de
DTSTART;TZID=Europe/Berlin:20260422T193000
DTEND;TZID=Europe/Berlin:20260422T213000
DTSTAMP:20260401T084601Z
URL:https://villamerlaender.de/events/vortrag-dr-anna-hajkova-queere-liebe
 -im-holocaust-menschen-ohne-geschichte-sind-staub/
SUMMARY:Vortrag: Dr Anna Hájková\, Queere Liebe im Holocaust - "Menschen 
 ohne Geschichte sind Staub"
DESCRIPTION:Die Teilnahme ist frei\, Voranmeldung unter ns-doku@krefeld.de\
 n\nWo sind die Geschichten der großen queeren Liebe in der Shoah? Es gibt
  so gut wie keine. Anna Hájková erklärt\, weshalb die Geschichte der gl
 eichgeschlechtlichen Liebe in der Shoah später ausgeklammert und marginal
 isiert worden ist und wie ihre Rückkehr in das kollektive Gedächtnis ein
 e inklusive und feministische Geschichte dieses Genozids anbieten kann. Di
 e erweiterte Auflage des Klassikers „Menschen ohne Geschichte sind Staub
 “ basiert auf originärer und umfangreicher Archivforschung und bietet e
 inen prägnanten Einblick in die queere Geschichte des Holocaust für Anf
 änger:innen und Fortgeschrittene.\n\nDie englische Ausgabe von »Menschen
  ohne Geschichte sind Staub« hat kürzlich den 75. National Jewish Book A
 ward in Kategorie Holocaust gewonnen.\nAnna Hájková\, geb. 1978\, ist Re
 ader in modern European continental history an der University of Warwick\,
  Großbritannien\, wo sie das Centre for Global Jewish Studies leitet. Sie
  ist Historikerin der jüdischen Holocaustgeschichte und Autorin von »The
  Last Ghetto: An Everyday History of Theresienstadt«. Hájková ist Pioni
 erin auf dem Gebiet der queeren Holocaustgeschichte.\nVeröffentlichungen 
 u.a.: The Last Ghetto: An Everyday History of Theresienstadt (erscheint 20
 20)\; Medicine in Theresienstadt\, in: Social History of Medicine\, 33\,1 
 (2020)\; Die letzten Berliner Veit Simons: Holocaust\, Geschlecht und das 
 Ende des deutsch-jüdischen Bürgertums (Co-Autorin\, 2019). Auszeichnunge
 n: Catharine Stimpson Prize for Outstanding Feminist Scholarship 2013.\n\n
 Der Förderverein Villa Merländer e.V. freut sich über Spenden zugunsten
  der Bildungsarbeit.\n\n\n\nFoto Copyright: Portrait  Hájková - Václav
  Jirásek\; Margot Neumann-  LBI\; Fredy Hirsch - Beit Terezin
CATEGORIES:Vortrag
END:VEVENT
BEGIN:VTIMEZONE
TZID:Europe/Berlin
X-LIC-LOCATION:Europe/Berlin
BEGIN:DAYLIGHT
DTSTART:20260329T030000
TZOFFSETFROM:+0100
TZOFFSETTO:+0200
TZNAME:CEST
END:DAYLIGHT
END:VTIMEZONE
END:VCALENDAR