BEGIN:VCALENDAR
VERSION:2.0
PRODID:-//wp-events-plugin.com//7.2.3.1//EN
BEGIN:VEVENT
UID:47@villamerlaender.de
DTSTART;TZID=Europe/Berlin:20210617T190000
DTEND;TZID=Europe/Berlin:20210617T210000
DTSTAMP:20210512T133037Z
URL:https://villamerlaender.de/events/vortrag-und-lesung-vortrag-und-lesun
 g-ich-ueberlebte-rumbula-mit-paula-oppermann-und-yana-robin-la-baume/
SUMMARY:Vortrag und Lesung: Vortrag und Lesung "Ich überlebte Rumbula" - m
 it Paula Oppermann und Yana Robin la Baume
DESCRIPTION:Vortrag und Lesung im Garten der Villa Merländer\n\nDer Wald v
 on Rumbula bei Riga\, der Hauptstadt Lettlands\, war im Winter 1941 Schaup
 latz eines der größten Verbrechen der Nationalsozialisten in der besetzt
 en Sowjetunion. In nur zwei Nächten wurden hier über 27000 Kinder\, Frau
 en und Männer grausam ermordet. Die Täter trieben die Menschen aus dem G
 hetto in Riga in den Wald\, zwangen sie\, sich zu entkleiden und erschosse
 n sie an vorbereiteten Gruben. Nur sechs Menschen überlebten\, unter ihne
 n Frida Michelson. Wie sie der Massenerschießung entkam und anschließend
  unter schwierigsten Bedingungen an immer neuen Verstecken überlebte\, sc
 hrieb sie nach dem Krieg nieder. Ihr Bericht diente bereits in den Nürnbe
 rger Prozessen als Beweismaterial\, doch es dauerte Jahre\, bis dieses ein
 zigartige Dokument einer breiteren Leserschaft zugänglich wurde.\n\nEine 
 Lesung mit anschließender Diskussion widmet sich der Biographie\, die 202
 0 erstmals auf deutsch erschien. Frida Michelsons Bericht ist nicht nur ei
 n einzigartiges Dokument über den „vergessenen Holocaust“ in Osteurop
 a. Er ist Ausdruck von Verzweiflung\, Mut und dem Willen\, zu überleben\,
  um Zeugnis abzulegen.\n\nPaula Oppermann ist Historikerin an der Universi
 tät Glasgow und forscht zur Geschichte und Gedächtsnisgeschichte des Zwe
 iten Weltkriegs und des Holocaust in Lettland. Neben ihrer wissenschaftlic
 hen Tätigkeit war sie auch in der historischen Bildungsarbeit tätig\, u.
 a. im Dokumentationszentrum Toppgraphie des Terrors in Berlin. Im Buch von
  Frida Michelson findet sich eine historischer Überblick von ihr.\n\nYana
  Robin la Baume studierte Schauspiel an der HfMdK Stuttgart und war anschl
 ießend fünf Jahre am Staatstheater Darmstadt engagiert. Seit 2019 lebt s
 ie als freischaffende Schauspielerin in Hamburg\, ist Gast am Theater Mün
 ster\, in unterschiedlichen Film- und Fernsehproduktionen zu sehen und arb
 eitet als Dozentin für Schauspiel.\n\nDer Eintritt zur Veranstaltung ist 
 frei\, das Haus freut sich über Spenden. Voranmeldung unter ns-doku@krefe
 ld.de
LOCATION:Villa Merländer\, Friedrich-Ebert-Straße 42\, Krefeld\, NRW\, 47
 799\, Deutschland
X-APPLE-STRUCTURED-LOCATION;VALUE=URI;X-ADDRESS=Friedrich-Ebert-Straße 42\
 , Krefeld\, NRW\, 47799\, Deutschland;X-APPLE-RADIUS=100;X-TITLE=Villa Mer
 länder:geo:0,0
END:VEVENT
BEGIN:VTIMEZONE
TZID:Europe/Berlin
X-LIC-LOCATION:Europe/Berlin
BEGIN:DAYLIGHT
DTSTART:20210328T030000
TZOFFSETFROM:+0100
TZOFFSETTO:+0200
TZNAME:CEST
END:DAYLIGHT
END:VTIMEZONE
END:VCALENDAR